BEGIN:VCALENDAR
VERSION:2.0
METHOD:PUBLISH
X-WR-CALNAME:Springwood District Preschool |  February 26 2018- March 28 2018
PRODID:-//strange bird labs//Drupal iCal API//EN
BEGIN:VEVENT
DTSTAMP;VALUE=DATE-TIME:20180225T165705Z
DTSTART;VALUE=DATE-TIME:20180320T053000Z
DTEND;VALUE=DATE-TIME:20180320T053000Z
UID:http://springwoodpreschool.org.au/node/546
URL;VALUE=URI:http://springwoodpreschool.org.au/node/546
SUMMARY:AGM
END:VEVENT
END:VCALENDAR
