BEGIN:VCALENDAR
VERSION:2.0
METHOD:PUBLISH
X-WR-CALNAME:Springwood District Preschool |  February 21 2020- March 22 2020
PRODID:-//strange bird labs//Drupal iCal API//EN
BEGIN:VEVENT
DTSTAMP;VALUE=DATE-TIME:20200228T110524Z
DTSTART;VALUE=DATE-TIME:20200302T231500Z
DTEND;VALUE=DATE-TIME:20200302T231500Z
UID:http://springwoodpreschool.org.au/node/639
URL;VALUE=URI:http://springwoodpreschool.org.au/node/639
SUMMARY:Welcome Morning Tea 9\:15am
END:VEVENT
BEGIN:VEVENT
DTSTAMP;VALUE=DATE-TIME:20200228T110524Z
DTSTART;VALUE=DATE-TIME:20200303T045800Z
DTEND;VALUE=DATE-TIME:20020203
UID:http://springwoodpreschool.org.au/node/641
URL;VALUE=URI:http://springwoodpreschool.org.au/node/641
SUMMARY:Ambulance Visit
END:VEVENT
BEGIN:VEVENT
DTSTAMP;VALUE=DATE-TIME:20200228T110524Z
DTSTART;VALUE=DATE-TIME:20200304T231500Z
DTEND;VALUE=DATE-TIME:20200304T231500Z
UID:http://springwoodpreschool.org.au/node/640
URL;VALUE=URI:http://springwoodpreschool.org.au/node/640
SUMMARY:Welcome Morning Tea 9\:15am
END:VEVENT
BEGIN:VEVENT
DTSTAMP;VALUE=DATE-TIME:20200228T110524Z
DTSTART;VALUE=DATE-TIME:20200310T045900Z
DTEND;VALUE=DATE-TIME:20020203
UID:http://springwoodpreschool.org.au/node/642
URL;VALUE=URI:http://springwoodpreschool.org.au/node/642
SUMMARY:LKM Dance Visit
END:VEVENT
BEGIN:VEVENT
DTSTAMP;VALUE=DATE-TIME:20200228T110524Z
DTSTART;VALUE=DATE-TIME:20200311T231500Z
DTEND;VALUE=DATE-TIME:20200311T231500Z
UID:http://springwoodpreschool.org.au/node/643
URL;VALUE=URI:http://springwoodpreschool.org.au/node/643
SUMMARY:Annual General Meeting
END:VEVENT
END:VCALENDAR
